BEGIN:VCALENDAR
VERSION:2.0
CALSCALE:GREGORIAN
PRODID:adamgibbons/ics
METHOD:PUBLISH
X-PUBLISHED-TTL:PT1H
BEGIN:VEVENT
UID:2607@lapunta.org
SUMMARY:Amadeo Bordiga\, una presentazione
DTSTAMP:20260423T184806Z
DTSTART:20230517T183000Z
DTEND:20230517T213000Z
DESCRIPTION:Presentazione del libro a cura dell'autore Pietro Basso.
URL:https://lapunta.org/event/amadeo-bordiga-una-presentazione
LOCATION:Associazione Culturale Maryano Ferreyra - Via degli Alfani\, 13/r
STATUS:CONFIRMED
CATEGORIES:libri
X-ALT-DESC;FMTTYPE=text/html:<p>Presentazione del libro a cura dell'autore 
	Pietro Basso. </p>
END:VEVENT
END:VCALENDAR
